BEGIN:VCALENDAR
VERSION:2.0
PRODID:-//Slinfold Parish Council//Meeting Calendar//EN
CALSCALE:GREGORIAN
METHOD:PUBLISH
BEGIN:VEVENT
UID:70713-2024-09-26@slinfold-pc.gov.uk
DTSTAMP:20260424T093223Z
DTSTART;VALUE=DATE:2024-09-26
DTEND;VALUE=DATE:20240927
SUMMARY:Council Meeting &#8211\\; 26 September 2024
DESCRIPTION:Council Meeting\nView details: https://slinfold-pc.gov.uk/meetings/council-meeting-26-september-2024/
URL:https://slinfold-pc.gov.uk/meetings/council-meeting-26-september-2024/
END:VEVENT
END:VCALENDAR
