BEGIN:VCALENDAR
VERSION:2.0
PRODID:-//Slinfold Parish Council//Meeting Calendar//EN
CALSCALE:GREGORIAN
METHOD:PUBLISH
BEGIN:VEVENT
UID:70712-2024-09-19@slinfold-pc.gov.uk
DTSTAMP:20260424T093325Z
DTSTART;VALUE=DATE:2024-09-19
DTEND;VALUE=DATE:20240920
SUMMARY:Highways and Byways Committee Meeting &#8211\\; 19 September 2024
DESCRIPTION:Council Meeting\nView details: https://slinfold-pc.gov.uk/meetings/highways-and-byways-committee-meeting-19-september-2024/
URL:https://slinfold-pc.gov.uk/meetings/highways-and-byways-committee-meeting-19-september-2024/
END:VEVENT
END:VCALENDAR
