BEGIN:VCALENDAR
VERSION:2.0
PRODID:-//Slinfold Parish Council//Meeting Calendar//EN
CALSCALE:GREGORIAN
METHOD:PUBLISH
BEGIN:VEVENT
UID:70711-2024-07-25@slinfold-pc.gov.uk
DTSTAMP:20260424T095147Z
DTSTART;VALUE=DATE:2024-07-25
DTEND;VALUE=DATE:20240726
SUMMARY:Council Meeting &#8211\\; 25 July 2024
DESCRIPTION:Council Meeting\nView details: https://slinfold-pc.gov.uk/meetings/council-meeting-25-july-2024/
URL:https://slinfold-pc.gov.uk/meetings/council-meeting-25-july-2024/
END:VEVENT
END:VCALENDAR
