BEGIN:VCALENDAR
VERSION:2.0
PRODID:-//Slinfold Parish Council//Meeting Calendar//EN
CALSCALE:GREGORIAN
METHOD:PUBLISH
BEGIN:VEVENT
UID:70708-2024-05-20@slinfold-pc.gov.uk
DTSTAMP:20260424T081513Z
DTSTART;VALUE=DATE:2024-05-20
DTEND;VALUE=DATE:20240521
SUMMARY:Extraordinary Meeting &#8211\\; 20 May 2024
DESCRIPTION:Council Meeting\nView details: https://slinfold-pc.gov.uk/meetings/extraordinary-meeting-20-may-2024/
URL:https://slinfold-pc.gov.uk/meetings/extraordinary-meeting-20-may-2024/
END:VEVENT
END:VCALENDAR
