BEGIN:VCALENDAR
VERSION:2.0
PRODID:-//Slinfold Parish Council//Meeting Calendar//EN
CALSCALE:GREGORIAN
METHOD:PUBLISH
BEGIN:VEVENT
UID:70706-2024-04-11@slinfold-pc.gov.uk
DTSTAMP:20260424T081634Z
DTSTART;VALUE=DATE:2024-04-11
DTEND;VALUE=DATE:20240412
SUMMARY:Finance and Establishment Committee Meeting &#8211\\; 11 April 2024
DESCRIPTION:Council Meeting\nView details: https://slinfold-pc.gov.uk/meetings/finance-and-establishment-committee-meeting-11-april-2024/
URL:https://slinfold-pc.gov.uk/meetings/finance-and-establishment-committee-meeting-11-april-2024/
END:VEVENT
END:VCALENDAR
