BEGIN:VCALENDAR
VERSION:2.0
PRODID:-//Slinfold Parish Council//Meeting Calendar//EN
CALSCALE:GREGORIAN
METHOD:PUBLISH
BEGIN:VEVENT
UID:70705-2024-04-08@slinfold-pc.gov.uk
DTSTAMP:20260422T082816Z
DTSTART;VALUE=DATE:2024-04-08
DTEND;VALUE=DATE:20240409
SUMMARY:Highways and Byways Committee Meeting &#8211\\; 8 April 2024
DESCRIPTION:Council Meeting\nView details: https://slinfold-pc.gov.uk/meetings/highways-and-byways-committee-meeting-8-april-2024/
URL:https://slinfold-pc.gov.uk/meetings/highways-and-byways-committee-meeting-8-april-2024/
END:VEVENT
END:VCALENDAR
