BEGIN:VCALENDAR
VERSION:2.0
PRODID:-//Slinfold Parish Council//Meeting Calendar//EN
CALSCALE:GREGORIAN
METHOD:PUBLISH
BEGIN:VEVENT
UID:70703-2024-02-29@slinfold-pc.gov.uk
DTSTAMP:20260424T081254Z
DTSTART;VALUE=DATE:2024-02-29
DTEND;VALUE=DATE:20240301
SUMMARY:Council Meeting &#8211\\; 29 February 2024
DESCRIPTION:Council Meeting\nView details: https://slinfold-pc.gov.uk/meetings/council-meeting-29-february-2024/
URL:https://slinfold-pc.gov.uk/meetings/council-meeting-29-february-2024/
END:VEVENT
END:VCALENDAR
