BEGIN:VCALENDAR
VERSION:2.0
PRODID:-//Slinfold Parish Council//Meeting Calendar//EN
CALSCALE:GREGORIAN
METHOD:PUBLISH
BEGIN:VEVENT
UID:70702-2024-01-25@slinfold-pc.gov.uk
DTSTAMP:20260424T081247Z
DTSTART;VALUE=DATE:2024-01-25
DTEND;VALUE=DATE:20240126
SUMMARY:Council Meeting &#8211\\; 25 January 2024
DESCRIPTION:Council Meeting\nView details: https://slinfold-pc.gov.uk/meetings/council-meeting-25-january-2024/
URL:https://slinfold-pc.gov.uk/meetings/council-meeting-25-january-2024/
END:VEVENT
END:VCALENDAR
