BEGIN:VCALENDAR
VERSION:2.0
PRODID:-//Slinfold Parish Council//Meeting Calendar//EN
CALSCALE:GREGORIAN
METHOD:PUBLISH
BEGIN:VEVENT
UID:70699-2023-12-21@slinfold-pc.gov.uk
DTSTAMP:20260420T095127Z
DTSTART;VALUE=DATE:2023-12-21
DTEND;VALUE=DATE:20231222
SUMMARY:Council Meeting &#8211\\; 21 December 2023
DESCRIPTION:Council Meeting\nView details: https://slinfold-pc.gov.uk/meetings/council-meeting-21-december-2023/
URL:https://slinfold-pc.gov.uk/meetings/council-meeting-21-december-2023/
END:VEVENT
END:VCALENDAR
