BEGIN:VCALENDAR
VERSION:2.0
PRODID:-//Slinfold Parish Council//Meeting Calendar//EN
CALSCALE:GREGORIAN
METHOD:PUBLISH
BEGIN:VEVENT
UID:70698-2023-11-30@slinfold-pc.gov.uk
DTSTAMP:20260420T095127Z
DTSTART;VALUE=DATE:2023-11-30
DTEND;VALUE=DATE:20231201
SUMMARY:Council Meeting &#8211\\; 30 November 2023
DESCRIPTION:Council Meeting\nView details: https://slinfold-pc.gov.uk/meetings/council-meeting-30-november-2023/
URL:https://slinfold-pc.gov.uk/meetings/council-meeting-30-november-2023/
END:VEVENT
END:VCALENDAR
