BEGIN:VCALENDAR
VERSION:2.0
PRODID:-//Slinfold Parish Council//Meeting Calendar//EN
CALSCALE:GREGORIAN
METHOD:PUBLISH
BEGIN:VEVENT
UID:70697-2023-11-07@slinfold-pc.gov.uk
DTSTAMP:20260420T083412Z
DTSTART;VALUE=DATE:2023-11-07
DTEND;VALUE=DATE:20231108
SUMMARY:Finance and Establishment Committee Meeting &#8211\\; 7 November 2023
DESCRIPTION:Council Meeting\nView details: https://slinfold-pc.gov.uk/meetings/finance-and-establishment-committee-meeting-7-november-2023/
URL:https://slinfold-pc.gov.uk/meetings/finance-and-establishment-committee-meeting-7-november-2023/
END:VEVENT
END:VCALENDAR
