BEGIN:VCALENDAR
VERSION:2.0
PRODID:-//Slinfold Parish Council//Meeting Calendar//EN
CALSCALE:GREGORIAN
METHOD:PUBLISH
BEGIN:VEVENT
UID:70696-2023-10-26@slinfold-pc.gov.uk
DTSTAMP:20260420T083430Z
DTSTART;VALUE=DATE:2023-10-26
DTEND;VALUE=DATE:20231027
SUMMARY:Council Meeting &#8211\\; 26 October 2023
DESCRIPTION:Council Meeting\nView details: https://slinfold-pc.gov.uk/meetings/council-meeting-26-october-2023/
URL:https://slinfold-pc.gov.uk/meetings/council-meeting-26-october-2023/
END:VEVENT
END:VCALENDAR
