BEGIN:VCALENDAR
VERSION:2.0
PRODID:-//Slinfold Parish Council//Meeting Calendar//EN
CALSCALE:GREGORIAN
METHOD:PUBLISH
BEGIN:VEVENT
UID:70695-2023-09-28@slinfold-pc.gov.uk
DTSTAMP:20260420T083024Z
DTSTART;VALUE=DATE:2023-09-28
DTEND;VALUE=DATE:20230929
SUMMARY:Council Meeting &#8211\\; 28 September 2023
DESCRIPTION:Council Meeting\nView details: https://slinfold-pc.gov.uk/meetings/council-meeting-28-september-2023/
URL:https://slinfold-pc.gov.uk/meetings/council-meeting-28-september-2023/
END:VEVENT
END:VCALENDAR
